BEGIN:VCALENDAR
VERSION:2.0
PRODID:-//SR400 Funny Innovation - ECPv5.5.0.1//NONSGML v1.0//EN
CALSCALE:GREGORIAN
METHOD:PUBLISH
X-WR-CALNAME:SR400 Funny Innovation
X-ORIGINAL-URL:https://sr400fi.com
X-WR-CALDESC:SR400 Funny Innovation のイベント
BEGIN:VTIMEZONE
TZID:Asia/Tokyo
BEGIN:STANDARD
TZOFFSETFROM:+0900
TZOFFSETTO:+0900
TZNAME:JST
DTSTART:20210101T000000
END:STANDARD
END:VTIMEZONE
BEGIN:VEVENT
DTSTART;TZID=Asia/Tokyo:20210523T100000
DTEND;TZID=Asia/Tokyo:20210523T150000
DTSTAMP:20260421T211503
CREATED:20210518T083439Z
LAST-MODIFIED:20210518T232011Z
UID:7706-1621764000-1621782000@sr400fi.com
SUMMARY:【神奈川】ジェントルマンズライド2021
DESCRIPTION:目次\n    \n    日時集合場所到着場所主催共催インフォメーション\n    \n  \n\n日時\n2021年5月23日(日)10:00集合 \n \n\n集合場所\n：テレビ神奈川 11:00 出発\n\n [Googleマップで開く] \n\n到着場所\n：日本丸メモリアルパーク 12:00～12:30到着\n\n [Googleマップで開く] \n  \n\n主催\n：Movember さん   \n共催\n：トライアンフ(UK) さん  \n：トライアンフ(横浜港北店) さん  \n：ライズ さん   \n  \nインフォメーション： \nThe Distinguished Gentleman's RideRegister now for The 2025 Distinguished Gentleman’s Ride and join us on the 18th May 2025.www.gentlemansride.com\nトライアンフ横浜港北 | TRIUMPHイギリスのバイクメーカー「TRIUMPH」を取り扱っている神奈川県横浜市都筑区のトライアンフ横浜港北です。皆様のご来店を心よりお待ちしております。www.triumph-yokohama.jp\n『ジェントルマンズライドのルートをご紹介』こんにちはー、ライズのムラカミです今日は雨からスタートの１日でした来週の日曜日はいよいよジェントルマンズライドです。まだ準備がいろいろありまして、明日からもバ…ameblo.jp\n『ジェントルマンズライド横浜の開催について重要事項』こんにちはー、ライズのムラカミです やはりこの時期のイベント開催というのは色々と難しいものですね。 ほとんどが好意的なご意見ではございますが、中には批判的な方…ameblo.jp
URL:https://sr400fi.com/event/gentlemansride-2021/
CATEGORIES:ツーリング,ミーティング
ATTACH;FMTTYPE=image/jpeg:https://stat.ameba.jp/user_images/20210512/14/ridez01/9f/5a/j/o0959108014940792529.jpg?caw=1125
END:VEVENT
END:VCALENDAR