BEGIN:VCALENDAR
VERSION:2.0
PRODID:-//SR400 Funny Innovation - ECPv5.5.0.1//NONSGML v1.0//EN
CALSCALE:GREGORIAN
METHOD:PUBLISH
X-WR-CALNAME:SR400 Funny Innovation
X-ORIGINAL-URL:https://sr400fi.com
X-WR-CALDESC:SR400 Funny Innovation のイベント
BEGIN:VTIMEZONE
TZID:Asia/Tokyo
BEGIN:STANDARD
TZOFFSETFROM:+0900
TZOFFSETTO:+0900
TZNAME:JST
DTSTART:20220101T000000
END:STANDARD
END:VTIMEZONE
BEGIN:VEVENT
DTSTART;VALUE=DATE:20220522
DTEND;VALUE=DATE:20220523
DTSTAMP:20260422T213054
CREATED:20220415T010629Z
LAST-MODIFIED:20220415T013535Z
UID:9268-1653177600-1653263999@sr400fi.com
SUMMARY:【北海道】第10回 北海道SRミーティング
DESCRIPTION:目次\n    \n    日時場所主催インフォメーション\n    \n  \n\n日時\n：2022年5月22日(日) 11:00～　\n \n\n場所\n：砂川ハイウェイオアシス\n(子どもの国駐車場) \n\n [Googleマップで開く] \n\n主催\n：アツシ さん    \n  \nインフォメーション： \n\n《ご案内》2022年5月22日午前11時、砂川ハイウェイオアシス(北海道こどもの国南口駐車場)にて、北海道SRミーティングを開催致します。◎感染対策徹底お願いします。◎ゴミ・喫煙マナー遵守お願いします。◎悪天候、及び政府によるコロナウイルス対策によっては中止致します。 pic.twitter.com/0FD6tWIR0E \n— アツシ (@tengumanjyuu) April 2\, 2022 \n \n\n   \n\n\n\n\n\n\n\n\n\n\nView this post on Instagram\n\n\n\n\n\n\n\n\n\n\n\n\n\n\n\n\n\n\n\n\n\n\n \nA post shared by Atsushi (@a2c_sr3xv)
URL:https://sr400fi.com/event/sr-meeting-north10-suna/
LOCATION:砂川ハイウェイオアシス
CATEGORIES:ミーティング
ATTACH;FMTTYPE=image/jpeg:https://pbs.twimg.com/media/FPVor4VVgA0C0eh?format=jpg
END:VEVENT
END:VCALENDAR