BEGIN:VCALENDAR
VERSION:2.0
PRODID:-//SR400 Funny Innovation - ECPv5.5.0.1//NONSGML v1.0//EN
CALSCALE:GREGORIAN
METHOD:PUBLISH
X-WR-CALNAME:SR400 Funny Innovation
X-ORIGINAL-URL:https://sr400fi.com
X-WR-CALDESC:SR400 Funny Innovation のイベント
BEGIN:VTIMEZONE
TZID:Asia/Tokyo
BEGIN:STANDARD
TZOFFSETFROM:+0900
TZOFFSETTO:+0900
TZNAME:JST
DTSTART:20200101T000000
END:STANDARD
END:VTIMEZONE
BEGIN:VEVENT
DTSTART;TZID=Asia/Tokyo:20200405T120000
DTEND;TZID=Asia/Tokyo:20200405T140000
DTSTAMP:20260422T232524
CREATED:20200219T054503Z
LAST-MODIFIED:20200402T021852Z
UID:4926-1586088000-1586095200@sr400fi.com
SUMMARY:【静岡】関東SR組under30meeting【延期】
DESCRIPTION:日時 \n  目次\n    \n    2020/4/5(日) 12:00～14:00 → 延期または中止 カスタムハウススティンキー 犬河ちひろ  さん  カスタムハウススティンキー さん   \nSR Only(造形社) さん \n    \n  \n\n2020/4/5(日) 12:00～14:00 → 延期または中止 \n場所 カスタムハウススティンキー \n\n Googleマップで開く\n\n主催 犬河ちひろ  さん  協力 カスタムハウススティンキー さん   \nSR Only(造形社) さん \n天気予報  \n\n \n\n\n場所はカスタムハウススティンキー様の店前駐車場にて行います。御殿場です！また、今年のSRオンリーにてちゃんと記事にしますのでプロのカメラマンも来るよん📸✨またちゃんと告知しますね。とりあえず〜〜#関東SR組under30meeting https://t.co/tiwNfpzSY9 \n— 犬河ちひろ (@chihiro_taiga19) February 18\, 2020 \n \n\n取り急ぎ・・・4/5(日)の #関東SR組under30meeting中止または延期にします。今後の状況をみて、また追って判断させてください🙇‍♀️よろしくお願いしますー。 https://t.co/AHYgQYmOa2 \n— 犬河ちひろ (@chihiro_taiga19) March 27\, 2020
URL:https://sr400fi.com/event/u30-meeting-3/
LOCATION:延期または中止\, 各々諸事情による\, 日本
CATEGORIES:ミーティング
ATTACH;FMTTYPE=image/jpeg:https://sr400fi.com/wp-content/uploads/ERinch0U8AAN4k9.jpeg
END:VEVENT
END:VCALENDAR