BEGIN:VCALENDAR
VERSION:2.0
PRODID:-//SR400 Funny Innovation - ECPv5.5.0.1//NONSGML v1.0//EN
CALSCALE:GREGORIAN
METHOD:PUBLISH
X-WR-CALNAME:SR400 Funny Innovation
X-ORIGINAL-URL:https://sr400fi.com
X-WR-CALDESC:SR400 Funny Innovation のイベント
BEGIN:VTIMEZONE
TZID:Asia/Tokyo
BEGIN:STANDARD
TZOFFSETFROM:+0900
TZOFFSETTO:+0900
TZNAME:JST
DTSTART:20200101T000000
END:STANDARD
END:VTIMEZONE
BEGIN:VEVENT
DTSTART;TZID=Asia/Tokyo:20200308T120000
DTEND;TZID=Asia/Tokyo:20200308T170000
DTSTAMP:20260422T212506
CREATED:20200123T031514Z
LAST-MODIFIED:20200127T011441Z
UID:4841-1583668800-1583686800@sr400fi.com
SUMMARY:【山口】SRミーティングin秋吉台
DESCRIPTION:日時 \n  目次\n    \n    2020/3/8(日)  秋吉台展望台入口駐車場(カルストロード沿い) ポルカ@シンイチ  さん CASCADA さん \n    \n  \n\n2020/3/8(日)  \n場所 秋吉台展望台入口駐車場(カルストロード沿い) \n\n Googleマップで開く\n\n主催 ポルカ@シンイチ  さん 協力 CASCADA さん \n天気予報  \n\n \n\n\n時間もあまりないのでとりあえず宣伝します。書類は提出してるので多分大丈夫でしょうw#山口SRミーティング詳細は追って告知します！ pic.twitter.com/SLS7PRVhY9 \n— ポルカ@シンイチ (@gurikusisu) January 16\, 2020 \n \n3月8日（日）　　山口SRミーティング | CASCADA-motodesign3月8日(日）に山口の秋吉台にてSRミーティングが開催されるので参加いたします。      www.cascada-motodesign.com
URL:https://sr400fi.com/event/yamaguchi-sr-meeting-2020/
CATEGORIES:ミーティング
ATTACH;FMTTYPE=image/jpeg:https://sr400fi.com/wp-content/uploads/EOYDBHwU4AA_cDG.jpeg
END:VEVENT
END:VCALENDAR